BEGIN:VCALENDAR
VERSION:2.0
PRODID:-//Fairfax CASA - ECPv6.15.20//NONSGML v1.0//EN
CALSCALE:GREGORIAN
METHOD:PUBLISH
X-WR-CALNAME:Fairfax CASA
X-ORIGINAL-URL:https://www.fairfaxcasa.org
X-WR-CALDESC:Events for Fairfax CASA
REFRESH-INTERVAL;VALUE=DURATION:PT1H
X-Robots-Tag:noindex
X-PUBLISHED-TTL:PT1H
BEGIN:VTIMEZONE
TZID:America/New_York
BEGIN:DAYLIGHT
TZOFFSETFROM:-0500
TZOFFSETTO:-0400
TZNAME:EDT
DTSTART:20240310T070000
END:DAYLIGHT
BEGIN:STANDARD
TZOFFSETFROM:-0400
TZOFFSETTO:-0500
TZNAME:EST
DTSTART:20241103T060000
END:STANDARD
BEGIN:DAYLIGHT
TZOFFSETFROM:-0500
TZOFFSETTO:-0400
TZNAME:EDT
DTSTART:20250309T070000
END:DAYLIGHT
BEGIN:STANDARD
TZOFFSETFROM:-0400
TZOFFSETTO:-0500
TZNAME:EST
DTSTART:20251102T060000
END:STANDARD
BEGIN:DAYLIGHT
TZOFFSETFROM:-0500
TZOFFSETTO:-0400
TZNAME:EDT
DTSTART:20260308T070000
END:DAYLIGHT
BEGIN:STANDARD
TZOFFSETFROM:-0400
TZOFFSETTO:-0500
TZNAME:EST
DTSTART:20261101T060000
END:STANDARD
BEGIN:DAYLIGHT
TZOFFSETFROM:-0500
TZOFFSETTO:-0400
TZNAME:EDT
DTSTART:20270314T070000
END:DAYLIGHT
BEGIN:STANDARD
TZOFFSETFROM:-0400
TZOFFSETTO:-0500
TZNAME:EST
DTSTART:20271107T060000
END:STANDARD
END:VTIMEZONE
BEGIN:VEVENT
DTSTART;TZID=America/New_York:20260416T190000
DTEND;TZID=America/New_York:20260416T203000
DTSTAMP:20260423T135613
CREATED:20260227T150800Z
LAST-MODIFIED:20260227T150800Z
UID:4519-1776366000-1776371400@www.fairfaxcasa.org
SUMMARY:4/16 Virtual Information Session 7 PM
DESCRIPTION:Would you like to make an impact in the life of a child who needs an adult to stand up for their best interests and needs? Join us for an online presentation via Zoom to learn about the role and responsibilities of a Court Appointed Special Advocate for abused and neglected children\, and how to become one. You will also hear from a veteran CASA about what to expect in this unique and rewarding volunteer role. YOU can change a child’s story! \nClick to register today.
URL:https://www.fairfaxcasa.org/event/4-16-virtual-information-session-7-pm/
END:VEVENT
BEGIN:VEVENT
DTSTART;TZID=America/New_York:20260409T130000
DTEND;TZID=America/New_York:20260409T143000
DTSTAMP:20260423T135613
CREATED:20260227T150428Z
LAST-MODIFIED:20260227T150428Z
UID:4517-1775739600-1775745000@www.fairfaxcasa.org
SUMMARY:4/9 Virtual Information Session 1 PM
DESCRIPTION:Would you like to make an impact in the life of a child who needs an adult to stand up for their best interests and needs? Join us for an online presentation via Zoom to learn about the role and responsibilities of a Court Appointed Special Advocate for abused and neglected children\, and how to become one. You will also hear from a veteran CASA about what to expect in this unique and rewarding volunteer role. YOU can change a child’s story! \nClick to register today.
URL:https://www.fairfaxcasa.org/event/4-9-virtual-information-session-1-pm/
END:VEVENT
BEGIN:VEVENT
DTSTART;TZID=America/New_York:20260319T130000
DTEND;TZID=America/New_York:20260319T143000
DTSTAMP:20260423T135613
CREATED:20251112T151926Z
LAST-MODIFIED:20251112T151926Z
UID:4211-1773925200-1773930600@www.fairfaxcasa.org
SUMMARY:3/19 Virtual Information Session 1 PM
DESCRIPTION:Would you like to make an impact in the life of a child who needs an adult to stand up for their best interests and needs? Join us for an online presentation via Zoom to learn about the role and responsibilities of a Court Appointed Special Advocate for abused and neglected children\, and how to become one. You will also hear from a veteran CASA about what to expect in this unique and rewarding volunteer role. YOU can change a child’s story! \nClick to register today.
URL:https://www.fairfaxcasa.org/event/3-19-virtual-information-session-1-pm/
END:VEVENT
BEGIN:VEVENT
DTSTART;TZID=America/New_York:20260305T190000
DTEND;TZID=America/New_York:20260305T203000
DTSTAMP:20260423T135613
CREATED:20251112T151805Z
LAST-MODIFIED:20251112T151805Z
UID:4209-1772737200-1772742600@www.fairfaxcasa.org
SUMMARY:3/5 Virtual Information Session 7 PM
DESCRIPTION:Would you like to make an impact in the life of a child who needs an adult to stand up for their best interests and needs? Join us for an online presentation via Zoom to learn about the role and responsibilities of a Court Appointed Special Advocate for abused and neglected children\, and how to become one. You will also hear from a veteran CASA about what to expect in this unique and rewarding volunteer role. YOU can change a child’s story! \nClick to register today.
URL:https://www.fairfaxcasa.org/event/3-5-virtual-information-session-7-pm/
END:VEVENT
BEGIN:VEVENT
DTSTART;TZID=America/New_York:20260219T130000
DTEND;TZID=America/New_York:20260219T143000
DTSTAMP:20260423T135613
CREATED:20251112T151655Z
LAST-MODIFIED:20251112T151655Z
UID:4207-1771506000-1771511400@www.fairfaxcasa.org
SUMMARY:2/19 Virtual Information Session 1 PM
DESCRIPTION:Would you like to make an impact in the life of a child who needs an adult to stand up for their best interests and needs? Join us for an online presentation via Zoom to learn about the role and responsibilities of a Court Appointed Special Advocate for abused and neglected children\, and how to become one. You will also hear from a veteran CASA about what to expect in this unique and rewarding volunteer role. YOU can change a child’s story! \nClick to register today.
URL:https://www.fairfaxcasa.org/event/2-19-virtual-information-session-1-pm/
END:VEVENT
BEGIN:VEVENT
DTSTART;TZID=America/New_York:20260205T190000
DTEND;TZID=America/New_York:20260205T190000
DTSTAMP:20260423T135613
CREATED:20251112T151511Z
LAST-MODIFIED:20251112T151511Z
UID:4205-1770318000-1770318000@www.fairfaxcasa.org
SUMMARY:2/5 Virtual Information Session 7 PM
DESCRIPTION:Would you like to make an impact in the life of a child who needs an adult to stand up for their best interests and needs? Join us for an online presentation via Zoom to learn about the role and responsibilities of a Court Appointed Special Advocate for abused and neglected children\, and how to become one. You will also hear from a veteran CASA about what to expect in this unique and rewarding volunteer role. YOU can change a child’s story! \nClick to register today.
URL:https://www.fairfaxcasa.org/event/2-5-virtual-information-session-7-pm/
END:VEVENT
BEGIN:VEVENT
DTSTART;TZID=America/New_York:20260126T130000
DTEND;TZID=America/New_York:20260126T143000
DTSTAMP:20260423T135613
CREATED:20251112T151356Z
LAST-MODIFIED:20251112T151356Z
UID:4203-1769432400-1769437800@www.fairfaxcasa.org
SUMMARY:1/26 Virtual Information Session 1 PM
DESCRIPTION:Would you like to make an impact in the life of a child who needs an adult to stand up for their best interests and needs? Join us for an online presentation via Zoom to learn about the role and responsibilities of a Court Appointed Special Advocate for abused and neglected children\, and how to become one. You will also hear from a veteran CASA about what to expect in this unique and rewarding volunteer role. YOU can change a child’s story! \nClick to register today.
URL:https://www.fairfaxcasa.org/event/1-26-virtual-information-session-1-pm/
END:VEVENT
BEGIN:VEVENT
DTSTART;TZID=America/New_York:20260106T190000
DTEND;TZID=America/New_York:20260106T203000
DTSTAMP:20260423T135613
CREATED:20251112T151205Z
LAST-MODIFIED:20251112T151205Z
UID:4201-1767726000-1767731400@www.fairfaxcasa.org
SUMMARY:1/6 Virtual Information Session 7 PM
DESCRIPTION:Would you like to make an impact in the life of a child who needs an adult to stand up for their best interests and needs? Join us for an online presentation via Zoom to learn about the role and responsibilities of a Court Appointed Special Advocate for abused and neglected children\, and how to become one. You will also hear from a veteran CASA about what to expect in this unique and rewarding volunteer role. YOU can change a child’s story! \nClick to register today.
URL:https://www.fairfaxcasa.org/event/1-6-virtual-information-session-7-pm/
END:VEVENT
BEGIN:VEVENT
DTSTART;TZID=America/New_York:20251218T130000
DTEND;TZID=America/New_York:20251218T143000
DTSTAMP:20260423T135613
CREATED:20250723T123846Z
LAST-MODIFIED:20251024T140210Z
UID:3956-1766062800-1766068200@www.fairfaxcasa.org
SUMMARY:12/18 Virtual Information Session 1 PM
DESCRIPTION:Would you like to make an impact in the life of a child who needs an adult to stand up for their best interests and needs? Join us for an online presentation via Zoom to learn about the role and responsibilities of a Court Appointed Special Advocate for abused and neglected children\, and how to become one. You will also hear from a veteran CASA about what to expect in this unique and rewarding volunteer role. YOU can change a child’s story! \nClick to register today.
URL:https://www.fairfaxcasa.org/event/12-18-virtual-information-session-1-pm/
END:VEVENT
BEGIN:VEVENT
DTSTART;TZID=America/New_York:20251202T190000
DTEND;TZID=America/New_York:20251202T203000
DTSTAMP:20260423T135613
CREATED:20250723T123724Z
LAST-MODIFIED:20251024T140417Z
UID:3954-1764702000-1764707400@www.fairfaxcasa.org
SUMMARY:12/2 Virtual Information Session 7 PM
DESCRIPTION:Would you like to make an impact in the life of a child who needs an adult to stand up for their best interests and needs? Join us for an online presentation via Zoom to learn about the role and responsibilities of a Court Appointed Special Advocate for abused and neglected children\, and how to become one. You will also hear from a veteran CASA about what to expect in this unique and rewarding volunteer role. YOU can change a child’s story! \nClick to register today.
URL:https://www.fairfaxcasa.org/event/12-2-virtual-information-session-7-pm/
END:VEVENT
BEGIN:VEVENT
DTSTART;TZID=America/New_York:20251120T130000
DTEND;TZID=America/New_York:20251120T143000
DTSTAMP:20260423T135613
CREATED:20250723T123602Z
LAST-MODIFIED:20250902T171242Z
UID:3952-1763643600-1763649000@www.fairfaxcasa.org
SUMMARY:11/20 Virtual Information Session 1 PM
DESCRIPTION:Would you like to make an impact in the life of a child who needs an adult to stand up for their best interests and needs? Join us for an online presentation via Zoom to learn about the role and responsibilities of a Court Appointed Special Advocate for abused and neglected children\, and how to become one. You will also hear from a veteran CASA about what to expect in this unique and rewarding volunteer role. YOU can change a child’s story! \nClick to register today.
URL:https://www.fairfaxcasa.org/event/11-20-virtual-information-session-1-pm/
END:VEVENT
BEGIN:VEVENT
DTSTART;TZID=America/New_York:20251106T113000
DTEND;TZID=America/New_York:20251106T130000
DTSTAMP:20260423T135613
CREATED:20250723T123428Z
LAST-MODIFIED:20251022T125617Z
UID:3950-1762428600-1762434000@www.fairfaxcasa.org
SUMMARY:11/6 Virtual Information Session 11:30 AM
DESCRIPTION:Would you like to make an impact in the life of a child who needs an adult to stand up for their best interests and needs? Join us for an online presentation via Zoom to learn about the role and responsibilities of a Court Appointed Special Advocate for abused and neglected children\, and how to become one. You will also hear from a veteran CASA about what to expect in this unique and rewarding volunteer role. YOU can change a child’s story! \nClick to register today.
URL:https://www.fairfaxcasa.org/event/11-6-virtual-information-session-1130-am/
END:VEVENT
BEGIN:VEVENT
DTSTART;TZID=America/New_York:20251023T130000
DTEND;TZID=America/New_York:20251023T143000
DTSTAMP:20260423T135613
CREATED:20250723T123308Z
LAST-MODIFIED:20250902T171130Z
UID:3948-1761224400-1761229800@www.fairfaxcasa.org
SUMMARY:10/23 Virtual Information Session 1 PM
DESCRIPTION:Would you like to make an impact in the life of a child who needs an adult to stand up for their best interests and needs? Join us for an online presentation via Zoom to learn about the role and responsibilities of a Court Appointed Special Advocate for abused and neglected children\, and how to become one. You will also hear from a veteran CASA about what to expect in this unique and rewarding volunteer role. YOU can change a child’s story! \nClick to register today.
URL:https://www.fairfaxcasa.org/event/10-23-virtual-information-session-1-pm/
END:VEVENT
BEGIN:VEVENT
DTSTART;TZID=America/New_York:20251009T190000
DTEND;TZID=America/New_York:20251009T203000
DTSTAMP:20260423T135613
CREATED:20250723T122828Z
LAST-MODIFIED:20250902T171054Z
UID:3946-1760036400-1760041800@www.fairfaxcasa.org
SUMMARY:10/9 Virtual Information Session 7 PM
DESCRIPTION:Would you like to make an impact in the life of a child who needs an adult to stand up for their best interests and needs? Join us for an online presentation via Zoom to learn about the role and responsibilities of a Court Appointed Special Advocate for abused and neglected children\, and how to become one. You will also hear from a veteran CASA about what to expect in this unique and rewarding volunteer role. YOU can change a child’s story! \nClick to register today.
URL:https://www.fairfaxcasa.org/event/10-9-virtual-information-session-7-pm/
END:VEVENT
BEGIN:VEVENT
DTSTART;TZID=America/New_York:20250929T130000
DTEND;TZID=America/New_York:20250929T143000
DTSTAMP:20260423T135613
CREATED:20250723T122646Z
LAST-MODIFIED:20250902T171006Z
UID:3944-1759150800-1759156200@www.fairfaxcasa.org
SUMMARY:9/29 Virtual Information Session 1 PM
DESCRIPTION:Would you like to make an impact in the life of a child who needs an adult to stand up for their best interests and needs? Join us for an online presentation via Zoom to learn about the role and responsibilities of a Court Appointed Special Advocate for abused and neglected children\, and how to become one. You will also hear from a veteran CASA about what to expect in this unique and rewarding volunteer role. YOU can change a child’s story! \nClick to register today.
URL:https://www.fairfaxcasa.org/event/9-29-virtual-information-session-1-pm/
END:VEVENT
BEGIN:VEVENT
DTSTART;TZID=America/New_York:20250918T190000
DTEND;TZID=America/New_York:20250918T203000
DTSTAMP:20260423T135613
CREATED:20250723T122502Z
LAST-MODIFIED:20250902T170936Z
UID:3942-1758222000-1758227400@www.fairfaxcasa.org
SUMMARY:9/18 Virtual Information Session 7 PM
DESCRIPTION:Would you like to make an impact in the life of a child who needs an adult to stand up for their best interests and needs? Join us for an online presentation via Zoom to learn about the role and responsibilities of a Court Appointed Special Advocate for abused and neglected children\, and how to become one. You will also hear from a veteran CASA about what to expect in this unique and rewarding volunteer role. YOU can change a child’s story! \nClick to register today.
URL:https://www.fairfaxcasa.org/event/9-18-virtual-information-session-7-pm/
END:VEVENT
BEGIN:VEVENT
DTSTART;TZID=America/New_York:20250904T130000
DTEND;TZID=America/New_York:20250904T143000
DTSTAMP:20260423T135613
CREATED:20250723T122142Z
LAST-MODIFIED:20250902T170806Z
UID:3939-1756990800-1756996200@www.fairfaxcasa.org
SUMMARY:9/4 Virtual Information Session 1 pm
DESCRIPTION:Would you like to make an impact in the life of a child who needs an adult to stand up for their best interests and needs? Join us for an online presentation via Zoom to learn about the role and responsibilities of a Court Appointed Special Advocate for abused and neglected children\, and how to become one. You will also hear from a veteran CASA about what to expect in this unique and rewarding volunteer role. YOU can change a child’s story! \nClick to register today.
URL:https://www.fairfaxcasa.org/event/9-4-virtual-information-session-1-pm/
END:VEVENT
BEGIN:VEVENT
DTSTART;TZID=America/New_York:20250819T130000
DTEND;TZID=America/New_York:20250819T143000
DTSTAMP:20260423T135613
CREATED:20250312T135010Z
LAST-MODIFIED:20250514T184339Z
UID:3717-1755608400-1755613800@www.fairfaxcasa.org
SUMMARY:8/19 Virtual Information Session 1 pm
DESCRIPTION:Date: August 19\, 2025 1:00 PM – 2:30 PM Would you like to make an impact in the life of a child who needs an adult to stand up for their best interests and needs? Join us for an online presentation via Zoom to learn about the role and responsibilities of a Court Appointed Special Advocate for abused and neglected children\, and how to become one. You will also hear from a veteran CASA about what to expect in this unique and rewarding volunteer role. YOU can change a child’s story! RSVP to reserve your spot and receive Zoom details by emailing us at volunteer@casafairfax.org!
URL:https://www.fairfaxcasa.org/event/8-21-virtual-information-session-1-pm/
END:VEVENT
BEGIN:VEVENT
DTSTART;TZID=America/New_York:20250807T190000
DTEND;TZID=America/New_York:20250807T203000
DTSTAMP:20260423T135613
CREATED:20250312T134848Z
LAST-MODIFIED:20250312T134848Z
UID:3715-1754593200-1754598600@www.fairfaxcasa.org
SUMMARY:8/7 Virtual Information Session 7 pm
DESCRIPTION:Date: August 7\, 2025 7:00 PM – 8:30 PM Would you like to make an impact in the life of a child who needs an adult to stand up for their best interests and needs? Join us for an online presentation via Zoom to learn about the role and responsibilities of a Court Appointed Special Advocate for abused and neglected children\, and how to become one. You will also hear from a veteran CASA about what to expect in this unique and rewarding volunteer role. YOU can change a child’s story! RSVP to reserve your spot and receive Zoom details by emailing us at volunteer@casafairfax.org!
URL:https://www.fairfaxcasa.org/event/8-7-virtual-information-session-7-pm/
END:VEVENT
BEGIN:VEVENT
DTSTART;TZID=America/New_York:20250724T130000
DTEND;TZID=America/New_York:20250724T143000
DTSTAMP:20260423T135613
CREATED:20250312T134545Z
LAST-MODIFIED:20250312T134545Z
UID:3712-1753362000-1753367400@www.fairfaxcasa.org
SUMMARY:7/24 Virtual Information Session 1 pm
DESCRIPTION:Date: July 24\, 2025 1:00 PM – 2:30 PM Would you like to make an impact in the life of a child who needs an adult to stand up for their best interests and needs? Join us for an online presentation via Zoom to learn about the role and responsibilities of a Court Appointed Special Advocate for abused and neglected children\, and how to become one. You will also hear from a veteran CASA about what to expect in this unique and rewarding volunteer role. YOU can change a child’s story! RSVP to reserve your spot and receive Zoom details by emailing us at volunteer@casafairfax.org!
URL:https://www.fairfaxcasa.org/event/7-24-virtual-information-session-1-pm/
END:VEVENT
BEGIN:VEVENT
DTSTART;TZID=America/New_York:20250710T190000
DTEND;TZID=America/New_York:20250710T203000
DTSTAMP:20260423T135613
CREATED:20250312T134437Z
LAST-MODIFIED:20250312T134437Z
UID:3710-1752174000-1752179400@www.fairfaxcasa.org
SUMMARY:7/10 Virtual Information Session 7 pm
DESCRIPTION:Date: July 10\, 2025 7:00 PM – 8:30 PM Would you like to make an impact in the life of a child who needs an adult to stand up for their best interests and needs? Join us for an online presentation via Zoom to learn about the role and responsibilities of a Court Appointed Special Advocate for abused and neglected children\, and how to become one. You will also hear from a veteran CASA about what to expect in this unique and rewarding volunteer role. YOU can change a child’s story! RSVP to reserve your spot and receive Zoom details by emailing us at volunteer@casafairfax.org!
URL:https://www.fairfaxcasa.org/event/7-10-virtual-information-session-7-pm/
END:VEVENT
BEGIN:VEVENT
DTSTART;TZID=America/New_York:20250626T130000
DTEND;TZID=America/New_York:20250626T143000
DTSTAMP:20260423T135613
CREATED:20250312T134320Z
LAST-MODIFIED:20250312T134320Z
UID:3708-1750942800-1750948200@www.fairfaxcasa.org
SUMMARY:6/26 Virtual Information Session 1 pm
DESCRIPTION:Date: June 26\, 2025 1:00 PM – 2:30 PM Would you like to make an impact in the life of a child who needs an adult to stand up for their best interests and needs? Join us for an online presentation via Zoom to learn about the role and responsibilities of a Court Appointed Special Advocate for abused and neglected children\, and how to become one. You will also hear from a veteran CASA about what to expect in this unique and rewarding volunteer role. YOU can change a child’s story! RSVP to reserve your spot and receive Zoom details by emailing us at volunteer@casafairfax.org!
URL:https://www.fairfaxcasa.org/event/6-26-virtual-information-session-1-pm/
END:VEVENT
BEGIN:VEVENT
DTSTART;TZID=America/New_York:20250605T190000
DTEND;TZID=America/New_York:20250605T203000
DTSTAMP:20260423T135613
CREATED:20250312T134212Z
LAST-MODIFIED:20250312T134212Z
UID:3706-1749150000-1749155400@www.fairfaxcasa.org
SUMMARY:6/5 Virtual Information Session 7 pm
DESCRIPTION:Date: June 5\, 2025 7:00 PM – 8:30 PM Would you like to make an impact in the life of a child who needs an adult to stand up for their best interests and needs? Join us for an online presentation via Zoom to learn about the role and responsibilities of a Court Appointed Special Advocate for abused and neglected children\, and how to become one. You will also hear from a veteran CASA about what to expect in this unique and rewarding volunteer role. YOU can change a child’s story! RSVP to reserve your spot and receive Zoom details by emailing us at volunteer@casafairfax.org!
URL:https://www.fairfaxcasa.org/event/6-5-virtual-information-session-7-pm/
END:VEVENT
BEGIN:VEVENT
DTSTART;TZID=America/New_York:20250530T160000
DTEND;TZID=America/New_York:20250530T200000
DTSTAMP:20260423T135613
CREATED:20250507T132843Z
LAST-MODIFIED:20250507T132843Z
UID:3787-1748620800-1748635200@www.fairfaxcasa.org
SUMMARY:Panera Bread Fundraiser
DESCRIPTION:Help us raise dough at Panera Bread on May 30\, 2025\, from 4 p.m. to 8 p.m. at 10702 Fairfax Blvd\, Fairfax\, Virginia. \n25% of sales will be donated to Fairfax CASA. Enter promo code FUND4U at online checkout. Present the flyer attached to the cashier to ensure your order is going towards supporting Fairfax CASA. \n  \n 
URL:https://www.fairfaxcasa.org/event/panera-bread-fundraiser/
LOCATION:Panera Bread\, 10702 Fairfax Blvd\, Fairfax\, VA\, 22030\, United States
END:VEVENT
BEGIN:VEVENT
DTSTART;TZID=America/New_York:20250522T130000
DTEND;TZID=America/New_York:20250522T143000
DTSTAMP:20260423T135613
CREATED:20250312T133839Z
LAST-MODIFIED:20250312T134040Z
UID:3702-1747918800-1747924200@www.fairfaxcasa.org
SUMMARY:5/22 Virtual Information Session 1 pm
DESCRIPTION:Date: May 22\, 2025 1:00 PM – 2:30 PM Would you like to make an impact in the life of a child who needs an adult to stand up for their best interests and needs? Join us for an online presentation via Zoom to learn about the role and responsibilities of a Court Appointed Special Advocate for abused and neglected children\, and how to become one. You will also hear from a veteran CASA about what to expect in this unique and rewarding volunteer role. YOU can change a child’s story! RSVP to reserve your spot and receive Zoom details by emailing us at volunteer@casafairfax.org!
URL:https://www.fairfaxcasa.org/event/5-22-virtual-information-session-1-pm/
END:VEVENT
BEGIN:VEVENT
DTSTART;TZID=America/New_York:20250501T190000
DTEND;TZID=America/New_York:20250501T203000
DTSTAMP:20260423T135613
CREATED:20250312T133527Z
LAST-MODIFIED:20250312T133952Z
UID:3699-1746126000-1746131400@www.fairfaxcasa.org
SUMMARY:5/1 Virtual Information Session 7 pm
DESCRIPTION:Date: May 1\, 2025 7:00 PM – 8:30 PM Would you like to make an impact in the life of a child who needs an adult to stand up for their best interests and needs? Join us for an online presentation via Zoom to learn about the role and responsibilities of a Court Appointed Special Advocate for abused and neglected children\, and how to become one. You will also hear from a veteran CASA about what to expect in this unique and rewarding volunteer role. YOU can change a child’s story! RSVP to reserve your spot and receive Zoom details by emailing us at volunteer@casafairfax.org!
URL:https://www.fairfaxcasa.org/event/5-1-virtual-information-session-7-pm/
END:VEVENT
BEGIN:VEVENT
DTSTART;TZID=America/New_York:20250424T130000
DTEND;TZID=America/New_York:20250424T143000
DTSTAMP:20260423T135613
CREATED:20241126T184957Z
LAST-MODIFIED:20241126T184957Z
UID:3510-1745499600-1745505000@www.fairfaxcasa.org
SUMMARY:4/24 Virtual Information Session 1 pm
DESCRIPTION:Date: April 24\, 2025 1:00 PM – 2:30 PM Would you like to make an impact in the life of a child who needs an adult to stand up for their best interests and needs? Join us for an online presentation via Zoom to learn about the role and responsibilities of a Court Appointed Special Advocate for abused and neglected children\, and how to become one. You will also hear from a veteran CASA about what to expect in this unique and rewarding volunteer role. YOU can change a child’s story! RSVP to reserve your spot and receive Zoom details by emailing us at volunteer@casafairfax.org!
URL:https://www.fairfaxcasa.org/event/4-24-virtual-information-session-1-pm/
END:VEVENT
BEGIN:VEVENT
DTSTART;TZID=America/New_York:20250423T170000
DTEND;TZID=America/New_York:20250423T210000
DTSTAMP:20260423T135613
CREATED:20250402T191232Z
LAST-MODIFIED:20250402T191232Z
UID:3769-1745427600-1745442000@www.fairfaxcasa.org
SUMMARY:Texas Roadhouse Dine to Donate
DESCRIPTION:Join us on April 23\, 2025\, from 5 pm to 9 pm for Texas Roadhouse Dine to Donate fundraising event. 10% of the proceeds will be donated to Fairfax CASA. Present a picture of the flyer below to your server and let them know you are there in support of Fairfax CASA!
URL:https://www.fairfaxcasa.org/event/texas-roadhouse-dine-to-donate/
LOCATION:Texas Roadhouse\, 4993 Westone Plz\, Chantilly\, VA\, 20151\, United States
END:VEVENT
BEGIN:VEVENT
DTSTART;TZID=America/New_York:20250403T190000
DTEND;TZID=America/New_York:20250403T203000
DTSTAMP:20260423T135613
CREATED:20241126T184721Z
LAST-MODIFIED:20241126T184721Z
UID:3507-1743706800-1743712200@www.fairfaxcasa.org
SUMMARY:4/3 Virtual Information Session 7 pm
DESCRIPTION:Date: April 3\, 2025 7:00 PM – 8:30 PM Would you like to make an impact in the life of a child who needs an adult to stand up for their best interests and needs? Join us for an online presentation via Zoom to learn about the role and responsibilities of a Court Appointed Special Advocate for abused and neglected children\, and how to become one. You will also hear from a veteran CASA about what to expect in this unique and rewarding volunteer role. YOU can change a child’s story! RSVP to reserve your spot and receive Zoom details by emailing us at volunteer@casafairfax.org!
URL:https://www.fairfaxcasa.org/event/4-3-virtual-information-session-7-pm/
END:VEVENT
BEGIN:VEVENT
DTSTART;TZID=America/New_York:20250326T100000
DTEND;TZID=America/New_York:20250326T210000
DTSTAMP:20260423T135613
CREATED:20250314T122639Z
LAST-MODIFIED:20250314T122639Z
UID:3720-1742983200-1743022800@www.fairfaxcasa.org
SUMMARY:Jersey Mike's Day Of Giving
DESCRIPTION:Date: March 26\, 2025 10:00 AM – 9:00 PM Join us in eating a sub and making a difference at Jersey Mike’s Subs at Shoppes Lane in Fairfax\, Virginia. 100% of proceeds will be donated to Fairfax CASA. \n \n 
URL:https://www.fairfaxcasa.org/event/jersey-mikes-day-of-giving/
LOCATION:Jersey Mike’s Subs\, 12703 Shoppes Ln\, Fairfax\, VA\, 22030\, United States
END:VEVENT
END:VCALENDAR