BEGIN:VCALENDAR
VERSION:2.0
PRODID:-//Fairfax CASA - ECPv6.15.20//NONSGML v1.0//EN
CALSCALE:GREGORIAN
METHOD:PUBLISH
X-WR-CALNAME:Fairfax CASA
X-ORIGINAL-URL:https://www.fairfaxcasa.org
X-WR-CALDESC:Events for Fairfax CASA
REFRESH-INTERVAL;VALUE=DURATION:PT1H
X-Robots-Tag:noindex
X-PUBLISHED-TTL:PT1H
BEGIN:VTIMEZONE
TZID:America/New_York
BEGIN:DAYLIGHT
TZOFFSETFROM:-0500
TZOFFSETTO:-0400
TZNAME:EDT
DTSTART:20250309T070000
END:DAYLIGHT
BEGIN:STANDARD
TZOFFSETFROM:-0400
TZOFFSETTO:-0500
TZNAME:EST
DTSTART:20251102T060000
END:STANDARD
BEGIN:DAYLIGHT
TZOFFSETFROM:-0500
TZOFFSETTO:-0400
TZNAME:EDT
DTSTART:20260308T070000
END:DAYLIGHT
BEGIN:STANDARD
TZOFFSETFROM:-0400
TZOFFSETTO:-0500
TZNAME:EST
DTSTART:20261101T060000
END:STANDARD
BEGIN:DAYLIGHT
TZOFFSETFROM:-0500
TZOFFSETTO:-0400
TZNAME:EDT
DTSTART:20270314T070000
END:DAYLIGHT
BEGIN:STANDARD
TZOFFSETFROM:-0400
TZOFFSETTO:-0500
TZNAME:EST
DTSTART:20271107T060000
END:STANDARD
END:VTIMEZONE
BEGIN:VEVENT
DTSTART;TZID=America/New_York:20260501T130000
DTEND;TZID=America/New_York:20260501T143000
DTSTAMP:20260423T181742
CREATED:20260227T150938Z
LAST-MODIFIED:20260227T150938Z
UID:4521-1777640400-1777645800@www.fairfaxcasa.org
SUMMARY:5/7 Virtual Information Session 1 PM
DESCRIPTION:Would you like to make an impact in the life of a child who needs an adult to stand up for their best interests and needs? Join us for an online presentation via Zoom to learn about the role and responsibilities of a Court Appointed Special Advocate for abused and neglected children\, and how to become one. You will also hear from a veteran CASA about what to expect in this unique and rewarding volunteer role. YOU can change a child’s story! \nClick to register today.
URL:https://www.fairfaxcasa.org/event/5-7-virtual-information-session-1-pm/
END:VEVENT
BEGIN:VEVENT
DTSTART;TZID=America/New_York:20260503T080000
DTEND;TZID=America/New_York:20260503T120000
DTSTAMP:20260423T181742
CREATED:20260127T191638Z
LAST-MODIFIED:20260127T191638Z
UID:4431-1777795200-1777809600@www.fairfaxcasa.org
SUMMARY:Run The Greenway!
DESCRIPTION:Join us on Sunday\, May 3\, 2026\, for a meaningful and fun opportunity to run (or walk) in support of local charities across Northern Virginia. This year marks the 6th Annual Run the Greenway\, featuring a 5K\,10K\, and Kids 1-Mile Fun Run race for runners of all ages and abilities.  \nThis year’s theme is Be the Hero! No superpowers or cape are required-just laced shoes and a desire to make a difference. Register to run for Fairfax CASA\, because every step you take\, is one less step an abused or neglected child has to face alone. \nRegister Today!
URL:https://www.fairfaxcasa.org/event/run-the-greenway/
CATEGORIES:Run The Greenway
END:VEVENT
BEGIN:VEVENT
DTSTART;TZID=America/New_York:20260528T190000
DTEND;TZID=America/New_York:20260528T203000
DTSTAMP:20260423T181742
CREATED:20260227T151235Z
LAST-MODIFIED:20260227T151235Z
UID:4523-1779994800-1780000200@www.fairfaxcasa.org
SUMMARY:5/28 Virtual Information Session 7 PM
DESCRIPTION:Would you like to make an impact in the life of a child who needs an adult to stand up for their best interests and needs? Join us for an online presentation via Zoom to learn about the role and responsibilities of a Court Appointed Special Advocate for abused and neglected children\, and how to become one. You will also hear from a veteran CASA about what to expect in this unique and rewarding volunteer role. YOU can change a child’s story! \nClick to register today.
URL:https://www.fairfaxcasa.org/event/5-28-virtual-information-session-7-pm/
END:VEVENT
BEGIN:VEVENT
DTSTART;TZID=America/New_York:20260611T130000
DTEND;TZID=America/New_York:20260611T143000
DTSTAMP:20260423T181742
CREATED:20260227T152120Z
LAST-MODIFIED:20260227T152120Z
UID:4527-1781182800-1781188200@www.fairfaxcasa.org
SUMMARY:6/11 Virtual Information Session 1 PM
DESCRIPTION:Would you like to make an impact in the life of a child who needs an adult to stand up for their best interests and needs? Join us for an online presentation via Zoom to learn about the role and responsibilities of a Court Appointed Special Advocate for abused and neglected children\, and how to become one. You will also hear from a veteran CASA about what to expect in this unique and rewarding volunteer role. YOU can change a child’s story! \nClick to register today.
URL:https://www.fairfaxcasa.org/event/6-11-virtual-information-session-1-pm/
END:VEVENT
BEGIN:VEVENT
DTSTART;TZID=America/New_York:20260611T130000
DTEND;TZID=America/New_York:20260611T143000
DTSTAMP:20260423T181742
CREATED:20260227T152338Z
LAST-MODIFIED:20260227T152338Z
UID:4529-1781182800-1781188200@www.fairfaxcasa.org
SUMMARY:6/11 Virtual Information Session 1 PM
DESCRIPTION:Would you like to make an impact in the life of a child who needs an adult to stand up for their best interests and needs? Join us for an online presentation via Zoom to learn about the role and responsibilities of a Court Appointed Special Advocate for abused and neglected children\, and how to become one. You will also hear from a veteran CASA about what to expect in this unique and rewarding volunteer role. YOU can change a child’s story! \nClick to register today.
URL:https://www.fairfaxcasa.org/event/6-11-virtual-information-session-1-pm-2/
END:VEVENT
BEGIN:VEVENT
DTSTART;TZID=America/New_York:20260625T190000
DTEND;TZID=America/New_York:20260625T203000
DTSTAMP:20260423T181742
CREATED:20260227T153354Z
LAST-MODIFIED:20260227T153354Z
UID:4531-1782414000-1782419400@www.fairfaxcasa.org
SUMMARY:6/25 Virtual Information Session 7 PM
DESCRIPTION:Would you like to make an impact in the life of a child who needs an adult to stand up for their best interests and needs? Join us for an online presentation via Zoom to learn about the role and responsibilities of a Court Appointed Special Advocate for abused and neglected children\, and how to become one. You will also hear from a veteran CASA about what to expect in this unique and rewarding volunteer role. YOU can change a child’s story! \nClick to register today.
URL:https://www.fairfaxcasa.org/event/6-25-virtual-information-session-7-pm/
END:VEVENT
BEGIN:VEVENT
DTSTART;TZID=America/New_York:20260716T130000
DTEND;TZID=America/New_York:20260716T143000
DTSTAMP:20260423T181742
CREATED:20260227T153522Z
LAST-MODIFIED:20260227T153522Z
UID:4533-1784206800-1784212200@www.fairfaxcasa.org
SUMMARY:7/16 Virtual Information Session 1 PM
DESCRIPTION:Would you like to make an impact in the life of a child who needs an adult to stand up for their best interests and needs? Join us for an online presentation via Zoom to learn about the role and responsibilities of a Court Appointed Special Advocate for abused and neglected children\, and how to become one. You will also hear from a veteran CASA about what to expect in this unique and rewarding volunteer role. YOU can change a child’s story! \nClick to register today.
URL:https://www.fairfaxcasa.org/event/7-16-virtual-information-session-1-pm/
END:VEVENT
BEGIN:VEVENT
DTSTART;TZID=America/New_York:20260730T190000
DTEND;TZID=America/New_York:20260730T203000
DTSTAMP:20260423T181742
CREATED:20260227T153651Z
LAST-MODIFIED:20260227T153651Z
UID:4536-1785438000-1785443400@www.fairfaxcasa.org
SUMMARY:7/30 Virtual Information Session 7 PM
DESCRIPTION:Would you like to make an impact in the life of a child who needs an adult to stand up for their best interests and needs? Join us for an online presentation via Zoom to learn about the role and responsibilities of a Court Appointed Special Advocate for abused and neglected children\, and how to become one. You will also hear from a veteran CASA about what to expect in this unique and rewarding volunteer role. YOU can change a child’s story! \nClick to register today.
URL:https://www.fairfaxcasa.org/event/7-30-virtual-information-session-7-pm/
END:VEVENT
BEGIN:VEVENT
DTSTART;TZID=America/New_York:20260813T130000
DTEND;TZID=America/New_York:20260813T143000
DTSTAMP:20260423T181742
CREATED:20260227T154029Z
LAST-MODIFIED:20260227T154029Z
UID:4538-1786626000-1786631400@www.fairfaxcasa.org
SUMMARY:8/13 Virtual Information Session 1 PM
DESCRIPTION:Would you like to make an impact in the life of a child who needs an adult to stand up for their best interests and needs? Join us for an online presentation via Zoom to learn about the role and responsibilities of a Court Appointed Special Advocate for abused and neglected children\, and how to become one. You will also hear from a veteran CASA about what to expect in this unique and rewarding volunteer role. YOU can change a child’s story! \nClick to register today.
URL:https://www.fairfaxcasa.org/event/8-13-virtual-information-session-1-pm/
END:VEVENT
BEGIN:VEVENT
DTSTART;TZID=America/New_York:20260827T190000
DTEND;TZID=America/New_York:20260827T203000
DTSTAMP:20260423T181742
CREATED:20260227T154141Z
LAST-MODIFIED:20260227T154141Z
UID:4540-1787857200-1787862600@www.fairfaxcasa.org
SUMMARY:8/27 Virtual Information Session 7 PM
DESCRIPTION:Would you like to make an impact in the life of a child who needs an adult to stand up for their best interests and needs? Join us for an online presentation via Zoom to learn about the role and responsibilities of a Court Appointed Special Advocate for abused and neglected children\, and how to become one. You will also hear from a veteran CASA about what to expect in this unique and rewarding volunteer role. YOU can change a child’s story! \nClick to register today.
URL:https://www.fairfaxcasa.org/event/8-27-virtual-information-session-7-pm/
END:VEVENT
END:VCALENDAR