BEGIN:VCALENDAR
VERSION:2.0
PRODID:-//Fairfax CASA - ECPv6.15.20//NONSGML v1.0//EN
CALSCALE:GREGORIAN
METHOD:PUBLISH
X-WR-CALNAME:Fairfax CASA
X-ORIGINAL-URL:https://www.fairfaxcasa.org
X-WR-CALDESC:Events for Fairfax CASA
REFRESH-INTERVAL;VALUE=DURATION:PT1H
X-Robots-Tag:noindex
X-PUBLISHED-TTL:PT1H
BEGIN:VTIMEZONE
TZID:UTC
BEGIN:STANDARD
TZOFFSETFROM:+0000
TZOFFSETTO:+0000
TZNAME:UTC
DTSTART:20200101T000000
END:STANDARD
END:VTIMEZONE
BEGIN:VEVENT
DTSTART;VALUE=DATE:20220201
DTEND;VALUE=DATE:20220301
DTSTAMP:20260424T110019
CREATED:20220125T225008Z
LAST-MODIFIED:20220125T225008Z
UID:2006-1643673600-1646092799@www.fairfaxcasa.org
SUMMARY:Have a Heart for Fairfax CASA at Twins ACE Hardware
DESCRIPTION:When you shop at Twins ACE Hardware in Fairfax throughout the month of February\, round up your purchase to the nearest dollar to benefit the abused and neglected children served by CASA! Whether you need to stock up on snow supplies for the end of winter\, are planning your Spring garden\, or working on a home improvement project\, the great folks at Twins ACE Hardware have you covered. Check out their great selection of national brands such as Yeti Coolers\, Weber Grills\, Stihl Power Tools\, and many more. Show our community’s foster children that you Have a Heart for them by shopping at Twins ACE and making your round-up donation!
URL:https://www.fairfaxcasa.org/event/have-a-heart-for-fairfax-casa-at-twins-ace-hardware/
LOCATION:Twins ACE Hardware\, 10310B Main Street\, Fairfax\, VA\, 22030\, United States
ATTACH;FMTTYPE=image/jpeg:https://www.fairfaxcasa.org/wp-content/uploads/2022/01/Have-a-Heart-2022.jpeg
END:VEVENT
BEGIN:VEVENT
DTSTART;TZID=UTC:20220111T190000
DTEND;TZID=UTC:20220111T203000
DTSTAMP:20260424T110019
CREATED:20211130T012755Z
LAST-MODIFIED:20211130T013354Z
UID:1928-1641927600-1641933000@www.fairfaxcasa.org
SUMMARY:Virtual Information Session
DESCRIPTION:  \nDate: January 11\, 2022 7:00-8:30pm Would you like to make an impact in the life of a child who needs an adult to stand up for their best interests and needs? Join us for an online presentation via Zoom to learn about the role and responsibilities of a Court Appointed Special Advocate for abused and neglected children\, and how to become one. You will also hear from a veteran CASA about what to expect in this unique and rewarding volunteer role. YOU can change a child’s story! RSVP to reserve your spot and receive Zoom details by emailing us at volunteer@casafairfax.org!
URL:https://www.fairfaxcasa.org/event/virtual-information-session-10/
ATTACH;FMTTYPE=image/jpeg:https://www.fairfaxcasa.org/wp-content/uploads/2021/07/November-Info-Sessions.jpeg
END:VEVENT
BEGIN:VEVENT
DTSTART;TZID=UTC:20211207T190000
DTEND;TZID=UTC:20211207T203000
DTSTAMP:20260424T110019
CREATED:20210729T231317Z
LAST-MODIFIED:20210729T231317Z
UID:1794-1638903600-1638909000@www.fairfaxcasa.org
SUMMARY:Virtual Information Session
DESCRIPTION:Date: December 7\, 2021\, 7:00-8:30pm Would you like to make an impact in the life of a child who needs an adult to stand up for their best interests and needs? Join us for an online presentation via Zoom to learn about the role and responsibilities of a Court Appointed Special Advocate for abused and neglected children\, and how to become one. You will also hear from a veteran CASA about what to expect in this unique and rewarding volunteer role. YOU can change a child’s story!\n\n\n\nRSVP to reserve your spot and receive Zoom details by emailing us at volunteer@casafairfax.org!
URL:https://www.fairfaxcasa.org/event/virtual-information-session-11/
ATTACH;FMTTYPE=image/jpeg:https://www.fairfaxcasa.org/wp-content/uploads/2021/07/December-Info-Sessions.jpeg
END:VEVENT
BEGIN:VEVENT
DTSTART;TZID=UTC:20211116T190000
DTEND;TZID=UTC:20211116T200000
DTSTAMP:20260424T110019
CREATED:20210729T231001Z
LAST-MODIFIED:20210729T231001Z
UID:1790-1637089200-1637092800@www.fairfaxcasa.org
SUMMARY:Virtual Information Session
DESCRIPTION:Date: November 16\, 2021\, 7:00-8:30pm Would you like to make an impact in the life of a child who needs an adult to stand up for their best interests and needs? Join us for an online presentation via Zoom to learn about the role and responsibilities of a Court Appointed Special Advocate for abused and neglected children\, and how to become one. You will also hear from a veteran CASA about what to expect in this unique and rewarding volunteer role. YOU can change a child’s story!\n\n \n\nRSVP to reserve your spot and receive Zoom details by emailing us at volunteer@casafairfax.org!
URL:https://www.fairfaxcasa.org/event/virtual-information-session-9/
ATTACH;FMTTYPE=image/jpeg:https://www.fairfaxcasa.org/wp-content/uploads/2021/07/November-Info-Sessions.jpeg
END:VEVENT
BEGIN:VEVENT
DTSTART;TZID=UTC:20211101T130000
DTEND;TZID=UTC:20211101T143000
DTSTAMP:20260424T110019
CREATED:20210729T230815Z
LAST-MODIFIED:20210729T230815Z
UID:1788-1635771600-1635777000@www.fairfaxcasa.org
SUMMARY:Virtual Information Session
DESCRIPTION:Date: November 1\, 2021\, 1:00-2:30pm Would you like to make an impact in the life of a child who needs an adult to stand up for their best interests and needs? Join us for an online presentation via Zoom to learn about the role and responsibilities of a Court Appointed Special Advocate for abused and neglected children\, and how to become one. You will also hear from a veteran CASA about what to expect in this unique and rewarding volunteer role. YOU can change a child’s story!\n\n\n\nRSVP to reserve your spot and receive Zoom details by emailing us at volunteer@casafairfax.org!
URL:https://www.fairfaxcasa.org/event/virtual-information-session-8/
ATTACH;FMTTYPE=image/jpeg:https://www.fairfaxcasa.org/wp-content/uploads/2021/07/November-Info-Sessions.jpeg
END:VEVENT
BEGIN:VEVENT
DTSTART;TZID=UTC:20211019T190000
DTEND;TZID=UTC:20211019T203000
DTSTAMP:20260424T110019
CREATED:20210729T230549Z
LAST-MODIFIED:20210729T230549Z
UID:1786-1634670000-1634675400@www.fairfaxcasa.org
SUMMARY:Virtual Information Session
DESCRIPTION:Date: October 19\, 2021\, 7:00-8:30pm Would you like to make an impact in the life of a child who needs an adult to stand up for their best interests and needs? Join us for an online presentation via Zoom to learn about the role and responsibilities of a Court Appointed Special Advocate for abused and neglected children\, and how to become one. You will also hear from a veteran CASA about what to expect in this unique and rewarding volunteer role. YOU can change a child’s story!\n\n\n\nRSVP to reserve your spot and receive Zoom details by emailing us at volunteer@casafairfax.org!
URL:https://www.fairfaxcasa.org/event/virtual-information-session-7/
ATTACH;FMTTYPE=image/jpeg:https://www.fairfaxcasa.org/wp-content/uploads/2021/07/October-Info-Sessions.jpeg
END:VEVENT
BEGIN:VEVENT
DTSTART;TZID=UTC:20211005T130000
DTEND;TZID=UTC:20211005T143000
DTSTAMP:20260424T110019
CREATED:20210729T230412Z
LAST-MODIFIED:20210729T230412Z
UID:1784-1633438800-1633444200@www.fairfaxcasa.org
SUMMARY:Virtual Information Session
DESCRIPTION:Date: October 5\, 2021\, 1:00-2:30pm Would you like to make an impact in the life of a child who needs an adult to stand up for their best interests and needs? Join us for an online presentation via Zoom to learn about the role and responsibilities of a Court Appointed Special Advocate for abused and neglected children\, and how to become one. You will also hear from a veteran CASA about what to expect in this unique and rewarding volunteer role. YOU can change a child’s story!\n\n\n\nRSVP to reserve your spot and receive Zoom details by emailing us at volunteer@casafairfax.org!
URL:https://www.fairfaxcasa.org/event/virtual-information-session-6/
ATTACH;FMTTYPE=image/jpeg:https://www.fairfaxcasa.org/wp-content/uploads/2021/07/October-Info-Sessions.jpeg
END:VEVENT
BEGIN:VEVENT
DTSTART;TZID=UTC:20210907T190000
DTEND;TZID=UTC:20210907T203000
DTSTAMP:20260424T110019
CREATED:20210729T230117Z
LAST-MODIFIED:20210729T230117Z
UID:1779-1631041200-1631046600@www.fairfaxcasa.org
SUMMARY:Virtual Information Session
DESCRIPTION:Date: September 7\, 2021\, 7:00-8:30pm Would you like to make an impact in the life of a child who needs an adult to stand up for their best interests and needs? Join us for an online presentation via Zoom to learn about the role and responsibilities of a Court Appointed Special Advocate for abused and neglected children\, and how to become one. You will also hear from a veteran CASA about what to expect in this unique and rewarding volunteer role. YOU can change a child’s story!\n\n\n\nRSVP to reserve your spot and receive Zoom details by emailing us at volunteer@casafairfax.org!
URL:https://www.fairfaxcasa.org/event/virtual-information-session-4/
ATTACH;FMTTYPE=image/jpeg:https://www.fairfaxcasa.org/wp-content/uploads/2021/03/3.-Pairs-with-Event-Information-Session.jpeg
END:VEVENT
BEGIN:VEVENT
DTSTART;TZID=UTC:20210824T130000
DTEND;TZID=UTC:20210824T143000
DTSTAMP:20260424T110019
CREATED:20210521T014352Z
LAST-MODIFIED:20210521T014352Z
UID:1675-1629810000-1629815400@www.fairfaxcasa.org
SUMMARY:Virtual Information Session
DESCRIPTION:Date: August 24\, 2021\, 1:00-2:30pm\n\nWould you like to make an impact in the life of a child who needs an adult to stand up for their best interests and needs? Join us for an online presentation via Zoom to learn about the role and responsibilities of a Court Appointed Special Advocate for abused and neglected children\, and how to become one. You will also hear from a veteran CASA about what to expect in this unique and rewarding volunteer role. YOU can change a child’s story!\n\n\n\nRSVP to reserve your spot and receive Zoom details by emailing us at volunteer@casafairfax.org!
URL:https://www.fairfaxcasa.org/event/virtual-information-session-5/
ATTACH;FMTTYPE=image/jpeg:https://www.fairfaxcasa.org/wp-content/uploads/2021/03/3.-Pairs-with-Event-Information-Session.jpeg
END:VEVENT
BEGIN:VEVENT
DTSTART;TZID=UTC:20210803T190000
DTEND;TZID=UTC:20210803T203000
DTSTAMP:20260424T110019
CREATED:20210521T013907Z
LAST-MODIFIED:20210715T163138Z
UID:1669-1628017200-1628022600@www.fairfaxcasa.org
SUMMARY:Virtual Information Session for Prospective Black CASAs
DESCRIPTION:Date: August 3\, 2021\, 7:00-8:30pm \n\n30% of the children we serve are Black\, but less than 5% of our CASA volunteers are Black. We know that representation matters and our children deserve CASA volunteers who share their experiences\, backgrounds\, and culture. It is crucial that we create a diverse pool of volunteers that reflects the demographics of the community of children we serve. \nWould you like to make an impact in the life of a child who needs an adult to stand up for their best interests and needs? Join us for an online presentation via Zoom to learn about the role and responsibilities of a Court Appointed Special Advocate for abused and neglected children\, and how to become one. You will also hear from a veteran CASA about what to expect in this unique and rewarding volunteer role. YOU can change a child’s story! \nRSVP to reserve your spot and receive Zoom details by emailing us at volunteer@casafairfax.org!
URL:https://www.fairfaxcasa.org/event/virtual-information-session-3/
ATTACH;FMTTYPE=image/jpeg:https://www.fairfaxcasa.org/wp-content/uploads/2021/05/AA-Info-Session.jpeg
END:VEVENT
BEGIN:VEVENT
DTSTART;TZID=UTC:20210713T130000
DTEND;TZID=UTC:20210713T143000
DTSTAMP:20260424T110019
CREATED:20210521T013237Z
LAST-MODIFIED:20210521T013539Z
UID:1665-1626181200-1626186600@www.fairfaxcasa.org
SUMMARY:Virtual Information Session
DESCRIPTION:Date: July 13\, 2021 1:00-2:30pm \nWould you like to make an impact in the life of a child who needs an adult to stand up for their best interests and needs? Join us for an online presentation via Zoom to learn about the role and responsibilities of a Court Appointed Special Advocate for abused and neglected children\, and how to become one. You will also hear from a veteran CASA about what to expect in this unique and rewarding volunteer role. YOU can change a child’s story! \n\n\n\nRSVP to reserve your spot and receive Zoom details by emailing us at volunteer@casafairfax.org!
URL:https://www.fairfaxcasa.org/event/virtual-information-session-2/
ATTACH;FMTTYPE=image/jpeg:https://www.fairfaxcasa.org/wp-content/uploads/2021/03/3.-Pairs-with-Event-Information-Session.jpeg
END:VEVENT
BEGIN:VEVENT
DTSTART;TZID=UTC:20210629T190000
DTEND;TZID=UTC:20210629T203000
DTSTAMP:20260424T110019
CREATED:20210305T193717Z
LAST-MODIFIED:20210521T013410Z
UID:1579-1624993200-1624998600@www.fairfaxcasa.org
SUMMARY:Virtual Information Session
DESCRIPTION:Date: June 29\, 2021\, 7:00pm – 8:30pm\n\n\n\n\n\nWould you like to make an impact in the life of a child who needs an adult to stand up for their best interests and needs? Join us for an online presentation via Zoom to learn about the role and responsibilities of a Court Appointed Special Advocate for abused and neglected children\, and how to become one. You will also hear from a veteran CASA about what to expect in this unique and rewarding volunteer role. YOU can change a child’s story! \n\n\n\nRSVP to reserve your spot and receive Zoom details by emailing us at volunteer@casafairfax.org!
URL:https://www.fairfaxcasa.org/event/virtual-information-session/
ATTACH;FMTTYPE=image/jpeg:https://www.fairfaxcasa.org/wp-content/uploads/2021/03/3.-Pairs-with-Event-Information-Session.jpeg
END:VEVENT
BEGIN:VEVENT
DTSTART;TZID=UTC:20210615T190000
DTEND;TZID=UTC:20210615T203000
DTSTAMP:20260424T110019
CREATED:20210521T012652Z
LAST-MODIFIED:20210521T012815Z
UID:1658-1623783600-1623789000@www.fairfaxcasa.org
SUMMARY:Virtual Information Session for Bilingual Candidates
DESCRIPTION:Date: June 15\, 2021\, 7:00-8:30pm     \nWhen a child has a CASA (Court Appointed Special Advocate) who looks like them\, speaks their language\, and can understand their racial and cultural experiences\, they are better served and supported. At Fairfax CASA\, it is important to us that our CASA volunteers reflect the diversity of the children we serve. As of today\,  34% of the children we currently serve in Fairfax County Hispanic (Latino/Latina?)\, yet less than 17% of the general population of Fairfax is Hispanic (Latino/Latina?) We need a diverse pool of volunteers who can provide culturally competent advocacy to these children\, today. Join us for an online presentation via Zoom to learn about the role and responsibilities of a Court Appointed Special Advocate for abused and neglected children\, and how to become one. You will also hear from a veteran CASA about what to expect in this unique and rewarding volunteer role. YOU can change a child’s story! \n\n\n\nRSVP to reserve your spot and receive Zoom details by emailing us at volunteer@casafairfax.org!
URL:https://www.fairfaxcasa.org/event/virtual-information-session-for-bilingual-candidates/
ATTACH;FMTTYPE=image/jpeg:https://www.fairfaxcasa.org/wp-content/uploads/2021/05/Spanish-Speaking-Info-Session.jpeg
END:VEVENT
BEGIN:VEVENT
DTSTART;TZID=UTC:20210424T090000
DTEND;TZID=UTC:20210424T090000
DTSTAMP:20260424T110019
CREATED:20210305T193941Z
LAST-MODIFIED:20210406T214610Z
UID:1581-1619254800-1619254800@www.fairfaxcasa.org
SUMMARY:11th Annual VIRTUAL Run for the Children
DESCRIPTION:Date: April 1st-30th\, 2021\n\n\n\n\n\nSocial Distancing doesn’t get our superheroes down! Join us this year for a VIRTUAL family-friendly 5K race or 3K run/walk from your own neck of the woods. Sign up with family and friends\, challenge your co-workers\, or just get out of the house and BE A HERO for an abused and neglected child. Run the race of your choice all April long\, at your own pace. Be a Hero and Run for a Child! \n\n\n\nSave the date for April 24th at 9 am for our live streaming Virtual Race Party! \n\n\n\nAbused and neglected children need support from all of us in order to reach their potential. By joining us for this event\, you help celebrate the heroic dedication of our CASA volunteers and the heroic resilience of the abused and neglected children they serve. Be a Hero for Hope and run for the children! \n\n\n\nClick here to register to run\, walk\, or donate.
URL:https://www.fairfaxcasa.org/event/11th-annual-virtual-run-for-the-children/
ATTACH;FMTTYPE=image/jpeg:https://www.fairfaxcasa.org/wp-content/uploads/2021/03/4.-Pairs-with-Event-11th-Annual-Run-for-the-Children.jpeg
END:VEVENT
END:VCALENDAR