BEGIN:VCALENDAR
VERSION:2.0
PRODID:-//Fairfax CASA - ECPv6.15.20//NONSGML v1.0//EN
CALSCALE:GREGORIAN
METHOD:PUBLISH
X-WR-CALNAME:Fairfax CASA
X-ORIGINAL-URL:https://www.fairfaxcasa.org
X-WR-CALDESC:Events for Fairfax CASA
REFRESH-INTERVAL;VALUE=DURATION:PT1H
X-Robots-Tag:noindex
X-PUBLISHED-TTL:PT1H
BEGIN:VTIMEZONE
TZID:UTC
BEGIN:STANDARD
TZOFFSETFROM:+0000
TZOFFSETTO:+0000
TZNAME:UTC
DTSTART:20200101T000000
END:STANDARD
END:VTIMEZONE
BEGIN:VEVENT
DTSTART;TZID=UTC:20210424T090000
DTEND;TZID=UTC:20210424T090000
DTSTAMP:20260425T085929
CREATED:20210305T193941Z
LAST-MODIFIED:20210406T214610Z
UID:1581-1619254800-1619254800@www.fairfaxcasa.org
SUMMARY:11th Annual VIRTUAL Run for the Children
DESCRIPTION:Date: April 1st-30th\, 2021\n\n\n\n\n\nSocial Distancing doesn’t get our superheroes down! Join us this year for a VIRTUAL family-friendly 5K race or 3K run/walk from your own neck of the woods. Sign up with family and friends\, challenge your co-workers\, or just get out of the house and BE A HERO for an abused and neglected child. Run the race of your choice all April long\, at your own pace. Be a Hero and Run for a Child! \n\n\n\nSave the date for April 24th at 9 am for our live streaming Virtual Race Party! \n\n\n\nAbused and neglected children need support from all of us in order to reach their potential. By joining us for this event\, you help celebrate the heroic dedication of our CASA volunteers and the heroic resilience of the abused and neglected children they serve. Be a Hero for Hope and run for the children! \n\n\n\nClick here to register to run\, walk\, or donate.
URL:https://www.fairfaxcasa.org/event/11th-annual-virtual-run-for-the-children/
ATTACH;FMTTYPE=image/jpeg:https://www.fairfaxcasa.org/wp-content/uploads/2021/03/4.-Pairs-with-Event-11th-Annual-Run-for-the-Children.jpeg
END:VEVENT
END:VCALENDAR