BEGIN:VCALENDAR
VERSION:2.0
PRODID:-//Fairfax CASA - ECPv6.15.20//NONSGML v1.0//EN
CALSCALE:GREGORIAN
METHOD:PUBLISH
X-WR-CALNAME:Fairfax CASA
X-ORIGINAL-URL:https://www.fairfaxcasa.org
X-WR-CALDESC:Events for Fairfax CASA
REFRESH-INTERVAL;VALUE=DURATION:PT1H
X-Robots-Tag:noindex
X-PUBLISHED-TTL:PT1H
BEGIN:VTIMEZONE
TZID:America/New_York
BEGIN:DAYLIGHT
TZOFFSETFROM:-0500
TZOFFSETTO:-0400
TZNAME:EDT
DTSTART:20230312T070000
END:DAYLIGHT
BEGIN:STANDARD
TZOFFSETFROM:-0400
TZOFFSETTO:-0500
TZNAME:EST
DTSTART:20231105T060000
END:STANDARD
BEGIN:DAYLIGHT
TZOFFSETFROM:-0500
TZOFFSETTO:-0400
TZNAME:EDT
DTSTART:20240310T070000
END:DAYLIGHT
BEGIN:STANDARD
TZOFFSETFROM:-0400
TZOFFSETTO:-0500
TZNAME:EST
DTSTART:20241103T060000
END:STANDARD
BEGIN:DAYLIGHT
TZOFFSETFROM:-0500
TZOFFSETTO:-0400
TZNAME:EDT
DTSTART:20250309T070000
END:DAYLIGHT
BEGIN:STANDARD
TZOFFSETFROM:-0400
TZOFFSETTO:-0500
TZNAME:EST
DTSTART:20251102T060000
END:STANDARD
BEGIN:DAYLIGHT
TZOFFSETFROM:-0500
TZOFFSETTO:-0400
TZNAME:EDT
DTSTART:20260308T070000
END:DAYLIGHT
BEGIN:STANDARD
TZOFFSETFROM:-0400
TZOFFSETTO:-0500
TZNAME:EST
DTSTART:20261101T060000
END:STANDARD
END:VTIMEZONE
BEGIN:VTIMEZONE
TZID:UTC
BEGIN:STANDARD
TZOFFSETFROM:+0000
TZOFFSETTO:+0000
TZNAME:UTC
DTSTART:20230101T000000
END:STANDARD
END:VTIMEZONE
BEGIN:VEVENT
DTSTART;TZID=America/New_York:20250522T130000
DTEND;TZID=America/New_York:20250522T143000
DTSTAMP:20260423T165528
CREATED:20250312T133839Z
LAST-MODIFIED:20250312T134040Z
UID:3702-1747918800-1747924200@www.fairfaxcasa.org
SUMMARY:5/22 Virtual Information Session 1 pm
DESCRIPTION:Date: May 22\, 2025 1:00 PM – 2:30 PM Would you like to make an impact in the life of a child who needs an adult to stand up for their best interests and needs? Join us for an online presentation via Zoom to learn about the role and responsibilities of a Court Appointed Special Advocate for abused and neglected children\, and how to become one. You will also hear from a veteran CASA about what to expect in this unique and rewarding volunteer role. YOU can change a child’s story! RSVP to reserve your spot and receive Zoom details by emailing us at volunteer@casafairfax.org!
URL:https://www.fairfaxcasa.org/event/5-22-virtual-information-session-1-pm/
END:VEVENT
BEGIN:VEVENT
DTSTART;TZID=America/New_York:20250501T190000
DTEND;TZID=America/New_York:20250501T203000
DTSTAMP:20260423T165528
CREATED:20250312T133527Z
LAST-MODIFIED:20250312T133952Z
UID:3699-1746126000-1746131400@www.fairfaxcasa.org
SUMMARY:5/1 Virtual Information Session 7 pm
DESCRIPTION:Date: May 1\, 2025 7:00 PM – 8:30 PM Would you like to make an impact in the life of a child who needs an adult to stand up for their best interests and needs? Join us for an online presentation via Zoom to learn about the role and responsibilities of a Court Appointed Special Advocate for abused and neglected children\, and how to become one. You will also hear from a veteran CASA about what to expect in this unique and rewarding volunteer role. YOU can change a child’s story! RSVP to reserve your spot and receive Zoom details by emailing us at volunteer@casafairfax.org!
URL:https://www.fairfaxcasa.org/event/5-1-virtual-information-session-7-pm/
END:VEVENT
BEGIN:VEVENT
DTSTART;TZID=America/New_York:20250424T130000
DTEND;TZID=America/New_York:20250424T143000
DTSTAMP:20260423T165528
CREATED:20241126T184957Z
LAST-MODIFIED:20241126T184957Z
UID:3510-1745499600-1745505000@www.fairfaxcasa.org
SUMMARY:4/24 Virtual Information Session 1 pm
DESCRIPTION:Date: April 24\, 2025 1:00 PM – 2:30 PM Would you like to make an impact in the life of a child who needs an adult to stand up for their best interests and needs? Join us for an online presentation via Zoom to learn about the role and responsibilities of a Court Appointed Special Advocate for abused and neglected children\, and how to become one. You will also hear from a veteran CASA about what to expect in this unique and rewarding volunteer role. YOU can change a child’s story! RSVP to reserve your spot and receive Zoom details by emailing us at volunteer@casafairfax.org!
URL:https://www.fairfaxcasa.org/event/4-24-virtual-information-session-1-pm/
END:VEVENT
BEGIN:VEVENT
DTSTART;TZID=America/New_York:20250423T170000
DTEND;TZID=America/New_York:20250423T210000
DTSTAMP:20260423T165528
CREATED:20250402T191232Z
LAST-MODIFIED:20250402T191232Z
UID:3769-1745427600-1745442000@www.fairfaxcasa.org
SUMMARY:Texas Roadhouse Dine to Donate
DESCRIPTION:Join us on April 23\, 2025\, from 5 pm to 9 pm for Texas Roadhouse Dine to Donate fundraising event. 10% of the proceeds will be donated to Fairfax CASA. Present a picture of the flyer below to your server and let them know you are there in support of Fairfax CASA!
URL:https://www.fairfaxcasa.org/event/texas-roadhouse-dine-to-donate/
LOCATION:Texas Roadhouse\, 4993 Westone Plz\, Chantilly\, VA\, 20151\, United States
END:VEVENT
BEGIN:VEVENT
DTSTART;TZID=America/New_York:20250403T190000
DTEND;TZID=America/New_York:20250403T203000
DTSTAMP:20260423T165528
CREATED:20241126T184721Z
LAST-MODIFIED:20241126T184721Z
UID:3507-1743706800-1743712200@www.fairfaxcasa.org
SUMMARY:4/3 Virtual Information Session 7 pm
DESCRIPTION:Date: April 3\, 2025 7:00 PM – 8:30 PM Would you like to make an impact in the life of a child who needs an adult to stand up for their best interests and needs? Join us for an online presentation via Zoom to learn about the role and responsibilities of a Court Appointed Special Advocate for abused and neglected children\, and how to become one. You will also hear from a veteran CASA about what to expect in this unique and rewarding volunteer role. YOU can change a child’s story! RSVP to reserve your spot and receive Zoom details by emailing us at volunteer@casafairfax.org!
URL:https://www.fairfaxcasa.org/event/4-3-virtual-information-session-7-pm/
END:VEVENT
BEGIN:VEVENT
DTSTART;TZID=America/New_York:20250326T100000
DTEND;TZID=America/New_York:20250326T210000
DTSTAMP:20260423T165528
CREATED:20250314T122639Z
LAST-MODIFIED:20250314T122639Z
UID:3720-1742983200-1743022800@www.fairfaxcasa.org
SUMMARY:Jersey Mike's Day Of Giving
DESCRIPTION:Date: March 26\, 2025 10:00 AM – 9:00 PM Join us in eating a sub and making a difference at Jersey Mike’s Subs at Shoppes Lane in Fairfax\, Virginia. 100% of proceeds will be donated to Fairfax CASA. \n \n 
URL:https://www.fairfaxcasa.org/event/jersey-mikes-day-of-giving/
LOCATION:Jersey Mike’s Subs\, 12703 Shoppes Ln\, Fairfax\, VA\, 22030\, United States
END:VEVENT
BEGIN:VEVENT
DTSTART;TZID=America/New_York:20250320T190000
DTEND;TZID=America/New_York:20250320T203000
DTSTAMP:20260423T165528
CREATED:20241126T184512Z
LAST-MODIFIED:20241126T184512Z
UID:3505-1742497200-1742502600@www.fairfaxcasa.org
SUMMARY:3/20 Virtual Information Session 7 pm
DESCRIPTION:Date: March 20\, 2025 7:00 PM – 8:30 PM Would you like to make an impact in the life of a child who needs an adult to stand up for their best interests and needs? Join us for an online presentation via Zoom to learn about the role and responsibilities of a Court Appointed Special Advocate for abused and neglected children\, and how to become one. You will also hear from a veteran CASA about what to expect in this unique and rewarding volunteer role. YOU can change a child’s story! RSVP to reserve your spot and receive Zoom details by emailing us at volunteer@casafairfax.org!
URL:https://www.fairfaxcasa.org/event/3-20-virtual-information-session-7-pm/
END:VEVENT
BEGIN:VEVENT
DTSTART;TZID=America/New_York:20250306T130000
DTEND;TZID=America/New_York:20250306T143000
DTSTAMP:20260423T165528
CREATED:20241126T184321Z
LAST-MODIFIED:20241126T184321Z
UID:3503-1741266000-1741271400@www.fairfaxcasa.org
SUMMARY:3/6 Virtual Information Session 1 pm
DESCRIPTION:Date: March 6\, 2025 1:00 PM – 2:30 PM Would you like to make an impact in the life of a child who needs an adult to stand up for their best interests and needs? Join us for an online presentation via Zoom to learn about the role and responsibilities of a Court Appointed Special Advocate for abused and neglected children\, and how to become one. You will also hear from a veteran CASA about what to expect in this unique and rewarding volunteer role. YOU can change a child’s story! RSVP to reserve your spot and receive Zoom details by emailing us at volunteer@casafairfax.org!
URL:https://www.fairfaxcasa.org/event/3-6-virtual-information-session-1-pm/
END:VEVENT
BEGIN:VEVENT
DTSTART;TZID=America/New_York:20250220T190000
DTEND;TZID=America/New_York:20250220T203000
DTSTAMP:20260423T165528
CREATED:20241126T184148Z
LAST-MODIFIED:20241126T184148Z
UID:3501-1740078000-1740083400@www.fairfaxcasa.org
SUMMARY:2/20 Virtual Information Session 7 pm
DESCRIPTION:Date: February 20\, 2025 7:00 PM – 8:30 PM Would you like to make an impact in the life of a child who needs an adult to stand up for their best interests and needs? Join us for an online presentation via Zoom to learn about the role and responsibilities of a Court Appointed Special Advocate for abused and neglected children\, and how to become one. You will also hear from a veteran CASA about what to expect in this unique and rewarding volunteer role. YOU can change a child’s story! RSVP to reserve your spot and receive Zoom details by emailing us at volunteer@casafairfax.org!
URL:https://www.fairfaxcasa.org/event/2-20-virtual-information-session-7-pm/
END:VEVENT
BEGIN:VEVENT
DTSTART;TZID=America/New_York:20250206T130000
DTEND;TZID=America/New_York:20250206T143000
DTSTAMP:20260423T165528
CREATED:20241126T183837Z
LAST-MODIFIED:20241126T183837Z
UID:3497-1738846800-1738852200@www.fairfaxcasa.org
SUMMARY:2/6 Virtual Information Session 1 pm
DESCRIPTION:Date: February 6\, 2025 1:00 PM – 2:30 PM Would you like to make an impact in the life of a child who needs an adult to stand up for their best interests and needs? Join us for an online presentation via Zoom to learn about the role and responsibilities of a Court Appointed Special Advocate for abused and neglected children\, and how to become one. You will also hear from a veteran CASA about what to expect in this unique and rewarding volunteer role. YOU can change a child’s story! RSVP to reserve your spot and receive Zoom details by emailing us at volunteer@casafairfax.org!
URL:https://www.fairfaxcasa.org/event/2-6-virtual-information-session-1-pm/
END:VEVENT
BEGIN:VEVENT
DTSTART;TZID=America/New_York:20250123T190000
DTEND;TZID=America/New_York:20250123T203000
DTSTAMP:20260423T165528
CREATED:20241126T183535Z
LAST-MODIFIED:20241126T183535Z
UID:3495-1737658800-1737664200@www.fairfaxcasa.org
SUMMARY:1/23 Virtual Information Session 7 pm
DESCRIPTION:Date: January 23\, 2025 7:00 PM – 8:30 PM Would you like to make an impact in the life of a child who needs an adult to stand up for their best interests and needs? Join us for an online presentation via Zoom to learn about the role and responsibilities of a Court Appointed Special Advocate for abused and neglected children\, and how to become one. You will also hear from a veteran CASA about what to expect in this unique and rewarding volunteer role. YOU can change a child’s story! RSVP to reserve your spot and receive Zoom details by emailing us at volunteer@casafairfax.org!
URL:https://www.fairfaxcasa.org/event/1-23-virtual-information-session-7-pm/
END:VEVENT
BEGIN:VEVENT
DTSTART;TZID=America/New_York:20250109T130000
DTEND;TZID=America/New_York:20250109T143000
DTSTAMP:20260423T165528
CREATED:20241126T183300Z
LAST-MODIFIED:20241126T183300Z
UID:3493-1736427600-1736433000@www.fairfaxcasa.org
SUMMARY:1/9 Virtual Information Session 1 pm
DESCRIPTION:Date: January 9\, 2025 1:00 PM – 2:30 PM Would you like to make an impact in the life of a child who needs an adult to stand up for their best interests and needs? Join us for an online presentation via Zoom to learn about the role and responsibilities of a Court Appointed Special Advocate for abused and neglected children\, and how to become one. You will also hear from a veteran CASA about what to expect in this unique and rewarding volunteer role. YOU can change a child’s story! RSVP to reserve your spot and receive Zoom details by emailing us at volunteer@casafairfax.org!
URL:https://www.fairfaxcasa.org/event/1-9-virtual-information-session-1-pm/
END:VEVENT
BEGIN:VEVENT
DTSTART;TZID=America/New_York:20241212T130000
DTEND;TZID=America/New_York:20241212T143000
DTSTAMP:20260423T165528
CREATED:20240805T180237Z
LAST-MODIFIED:20240805T180237Z
UID:3365-1734008400-1734013800@www.fairfaxcasa.org
SUMMARY:12/12 Virtual Information Session 1 PM
DESCRIPTION:Date: December 12\, 2024 1:00 PM – 2:30 PM Would you like to make an impact in the life of a child who needs an adult to stand up for their best interests and needs? Join us for an online presentation via Zoom to learn about the role and responsibilities of a Court Appointed Special Advocate for abused and neglected children\, and how to become one. You will also hear from a veteran CASA about what to expect in this unique and rewarding volunteer role. YOU can change a child’s story! RSVP to reserve your spot and receive Zoom details by emailing us at volunteer@casafairfax.org!
URL:https://www.fairfaxcasa.org/event/12-12-virtual-information-session-1-pm/
END:VEVENT
BEGIN:VEVENT
DTSTART;TZID=America/New_York:20241205T190000
DTEND;TZID=America/New_York:20241205T203000
DTSTAMP:20260423T165528
CREATED:20240805T175926Z
LAST-MODIFIED:20240805T175926Z
UID:3363-1733425200-1733430600@www.fairfaxcasa.org
SUMMARY:12/5 Virtual Information Session 7 PM
DESCRIPTION:Date: December 5\, 2024 7:00 PM – 8:30 PM Would you like to make an impact in the life of a child who needs an adult to stand up for their best interests and needs? Join us for an online presentation via Zoom to learn about the role and responsibilities of a Court Appointed Special Advocate for abused and neglected children\, and how to become one. You will also hear from a veteran CASA about what to expect in this unique and rewarding volunteer role. YOU can change a child’s story! RSVP to reserve your spot and receive Zoom details by emailing us at volunteer@casafairfax.org!
URL:https://www.fairfaxcasa.org/event/12-5-virtual-information-session-7-pm/
END:VEVENT
BEGIN:VEVENT
DTSTART;TZID=America/New_York:20241121T130000
DTEND;TZID=America/New_York:20241121T143000
DTSTAMP:20260423T165528
CREATED:20240805T173847Z
LAST-MODIFIED:20240805T173847Z
UID:3360-1732194000-1732199400@www.fairfaxcasa.org
SUMMARY:11/21 Virtual Information Session 1 PM
DESCRIPTION:Date: November 21\, 2024 1:00 PM – 2:30 PM Would you like to make an impact in the life of a child who needs an adult to stand up for their best interests and needs? Join us for an online presentation via Zoom to learn about the role and responsibilities of a Court Appointed Special Advocate for abused and neglected children\, and how to become one. You will also hear from a veteran CASA about what to expect in this unique and rewarding volunteer role. YOU can change a child’s story! RSVP to reserve your spot and receive Zoom details by emailing us at volunteer@casafairfax.org!
URL:https://www.fairfaxcasa.org/event/11-21-virtual-information-session-1-pm/
END:VEVENT
BEGIN:VEVENT
DTSTART;TZID=America/New_York:20241107T190000
DTEND;TZID=America/New_York:20241107T203000
DTSTAMP:20260423T165528
CREATED:20240805T173443Z
LAST-MODIFIED:20240805T173443Z
UID:3358-1731006000-1731011400@www.fairfaxcasa.org
SUMMARY:11/7 Virtual Information Session 7 PM
DESCRIPTION:Date: November 7\, 2024 7:00 PM – 8:30 PM Would you like to make an impact in the life of a child who needs an adult to stand up for their best interests and needs? Join us for an online presentation via Zoom to learn about the role and responsibilities of a Court Appointed Special Advocate for abused and neglected children\, and how to become one. You will also hear from a veteran CASA about what to expect in this unique and rewarding volunteer role. YOU can change a child’s story! RSVP to reserve your spot and receive Zoom details by emailing us at volunteer@casafairfax.org!
URL:https://www.fairfaxcasa.org/event/11-7-virtual-information-session-7-pm/
END:VEVENT
BEGIN:VEVENT
DTSTART;TZID=America/New_York:20241017T130000
DTEND;TZID=America/New_York:20241017T143000
DTSTAMP:20260423T165528
CREATED:20240805T173037Z
LAST-MODIFIED:20240805T173037Z
UID:3356-1729170000-1729175400@www.fairfaxcasa.org
SUMMARY:10/17 Virtual Information Session 1 PM
DESCRIPTION:Date: October 17\, 2024 1:00 PM – 2:30 PM Would you like to make an impact in the life of a child who needs an adult to stand up for their best interests and needs? Join us for an online presentation via Zoom to learn about the role and responsibilities of a Court Appointed Special Advocate for abused and neglected children\, and how to become one. You will also hear from a veteran CASA about what to expect in this unique and rewarding volunteer role. YOU can change a child’s story! RSVP to reserve your spot and receive Zoom details by emailing us at volunteer@casafairfax.org!
URL:https://www.fairfaxcasa.org/event/10-17-virtual-information-session-1-pm/
END:VEVENT
BEGIN:VEVENT
DTSTART;TZID=America/New_York:20241002T190000
DTEND;TZID=America/New_York:20241002T203000
DTSTAMP:20260423T165528
CREATED:20240805T172645Z
LAST-MODIFIED:20240805T172645Z
UID:3354-1727895600-1727901000@www.fairfaxcasa.org
SUMMARY:10/2 Virtual Information Session 7 PM
DESCRIPTION:Date: October 2\, 2024 7:00 PM – 8:30 PM Would you like to make an impact in the life of a child who needs an adult to stand up for their best interests and needs? Join us for an online presentation via Zoom to learn about the role and responsibilities of a Court Appointed Special Advocate for abused and neglected children\, and how to become one. You will also hear from a veteran CASA about what to expect in this unique and rewarding volunteer role. YOU can change a child’s story! RSVP to reserve your spot and receive Zoom details by emailing us at volunteer@casafairfax.org!
URL:https://www.fairfaxcasa.org/event/10-2-24-virtual-information-session/
END:VEVENT
BEGIN:VEVENT
DTSTART;TZID=America/New_York:20240919T130000
DTEND;TZID=America/New_York:20240919T143000
DTSTAMP:20260423T165528
CREATED:20240805T172005Z
LAST-MODIFIED:20240805T172005Z
UID:3352-1726750800-1726756200@www.fairfaxcasa.org
SUMMARY:9/19 Virtual Information Session 1 PM
DESCRIPTION:Date: September 19\, 2024 1:00 PM – 2:30 PM Would you like to make an impact in the life of a child who needs an adult to stand up for their best interests and needs? Join us for an online presentation via Zoom to learn about the role and responsibilities of a Court Appointed Special Advocate for abused and neglected children\, and how to become one. You will also hear from a veteran CASA about what to expect in this unique and rewarding volunteer role. YOU can change a child’s story! RSVP to reserve your spot and receive Zoom details by emailing us at volunteer@casafairfax.org!
URL:https://www.fairfaxcasa.org/event/9-19-virtual-information-session-1-pm/
END:VEVENT
BEGIN:VEVENT
DTSTART;TZID=America/New_York:20240905T190000
DTEND;TZID=America/New_York:20240905T203000
DTSTAMP:20260423T165528
CREATED:20240805T162657Z
LAST-MODIFIED:20240805T162657Z
UID:3350-1725562800-1725568200@www.fairfaxcasa.org
SUMMARY:9/5 Virtual Information Session 7 PM
DESCRIPTION:Date: September 5\, 2024 7:00 PM – 8:30 PM Would you like to make an impact in the life of a child who needs an adult to stand up for their best interests and needs? Join us for an online presentation via Zoom to learn about the role and responsibilities of a Court Appointed Special Advocate for abused and neglected children\, and how to become one. You will also hear from a veteran CASA about what to expect in this unique and rewarding volunteer role. YOU can change a child’s story! RSVP to reserve your spot and receive Zoom details by emailing us at volunteer@casafairfax.org!
URL:https://www.fairfaxcasa.org/event/9-5-virtual-information-session-7-pm/
END:VEVENT
BEGIN:VEVENT
DTSTART;TZID=America/New_York:20240822T130000
DTEND;TZID=America/New_York:20240822T143000
DTSTAMP:20260423T165528
CREATED:20240313T191455Z
LAST-MODIFIED:20240313T191455Z
UID:3064-1724331600-1724337000@www.fairfaxcasa.org
SUMMARY:8/22 Virtual Information Session 1 PM
DESCRIPTION:Date: August 22\, 2024 1:00 PM – 2:30 PM Would you like to make an impact in the life of a child who needs an adult to stand up for their best interests and needs? Join us for an online presentation via Zoom to learn about the role and responsibilities of a Court Appointed Special Advocate for abused and neglected children\, and how to become one. You will also hear from a veteran CASA about what to expect in this unique and rewarding volunteer role. YOU can change a child’s story! RSVP to reserve your spot and receive Zoom details by emailing us at volunteer@casafairfax.org!
URL:https://www.fairfaxcasa.org/event/8-22-virtual-information-session-1-pm/
END:VEVENT
BEGIN:VEVENT
DTSTART;TZID=America/New_York:20240808T190000
DTEND;TZID=America/New_York:20240808T203000
DTSTAMP:20260423T165528
CREATED:20240313T190343Z
LAST-MODIFIED:20240313T190343Z
UID:3062-1723143600-1723149000@www.fairfaxcasa.org
SUMMARY:8/8 Virtual Information Session 7 PM
DESCRIPTION:Date: August 8\, 2024 7:00 PM – 8:30 PM Would you like to make an impact in the life of a child who needs an adult to stand up for their best interests and needs? Join us for an online presentation via Zoom to learn about the role and responsibilities of a Court Appointed Special Advocate for abused and neglected children\, and how to become one. You will also hear from a veteran CASA about what to expect in this unique and rewarding volunteer role. YOU can change a child’s story! RSVP to reserve your spot and receive Zoom details by emailing us at volunteer@casafairfax.org! \n 
URL:https://www.fairfaxcasa.org/event/8-8-virtual-information-session-7-pm/
END:VEVENT
BEGIN:VEVENT
DTSTART;TZID=America/New_York:20240725T130000
DTEND;TZID=America/New_York:20240725T143000
DTSTAMP:20260423T165528
CREATED:20240313T185915Z
LAST-MODIFIED:20240313T185915Z
UID:3060-1721912400-1721917800@www.fairfaxcasa.org
SUMMARY:7/25 Virtual Information Session 1 PM
DESCRIPTION:Date: July 25\, 2024 1:00 PM – 2:30 PM Would you like to make an impact in the life of a child who needs an adult to stand up for their best interests and needs? Join us for an online presentation via Zoom to learn about the role and responsibilities of a Court Appointed Special Advocate for abused and neglected children\, and how to become one. You will also hear from a veteran CASA about what to expect in this unique and rewarding volunteer role. YOU can change a child’s story! RSVP to reserve your spot and receive Zoom details by emailing us at volunteer@casafairfax.org!
URL:https://www.fairfaxcasa.org/event/7-25-virtual-information-session-1-pm/
END:VEVENT
BEGIN:VEVENT
DTSTART;TZID=America/New_York:20240711T190000
DTEND;TZID=America/New_York:20240711T203000
DTSTAMP:20260423T165528
CREATED:20240313T191624Z
LAST-MODIFIED:20240313T191811Z
UID:3058-1720724400-1720729800@www.fairfaxcasa.org
SUMMARY:7/11 Virtual Information Session 7 PM
DESCRIPTION:Date: July 11\, 2024 7:00 PM – 8:30 PM Would you like to make an impact in the life of a child who needs an adult to stand up for their best interests and needs? Join us for an online presentation via Zoom to learn about the role and responsibilities of a Court Appointed Special Advocate for abused and neglected children\, and how to become one. You will also hear from a veteran CASA about what to expect in this unique and rewarding volunteer role. YOU can change a child’s story! RSVP to reserve your spot and receive Zoom details by emailing us at volunteer@casafairfax.org!
URL:https://www.fairfaxcasa.org/event/7-11-virtual-information-session-7-pm/
END:VEVENT
BEGIN:VEVENT
DTSTART;TZID=America/New_York:20240627T130000
DTEND;TZID=America/New_York:20240627T143000
DTSTAMP:20260423T165528
CREATED:20240313T191540Z
LAST-MODIFIED:20240313T191916Z
UID:3056-1719493200-1719498600@www.fairfaxcasa.org
SUMMARY:6/27 Virtual Information Session 1 PM
DESCRIPTION:Date: June 27\, 2024 1:00 PM – 2:30 PM Would you like to make an impact in the life of a child who needs an adult to stand up for their best interests and needs? Join us for an online presentation via Zoom to learn about the role and responsibilities of a Court Appointed Special Advocate for abused and neglected children\, and how to become one. You will also hear from a veteran CASA about what to expect in this unique and rewarding volunteer role. YOU can change a child’s story! RSVP to reserve your spot and receive Zoom details by emailing us at volunteer@casafairfax.org!
URL:https://www.fairfaxcasa.org/event/6-27-virtual-information-session-1-pm/
END:VEVENT
BEGIN:VEVENT
DTSTART;TZID=America/New_York:20240612T190000
DTEND;TZID=America/New_York:20240612T203000
DTSTAMP:20260423T165528
CREATED:20240313T184513Z
LAST-MODIFIED:20240506T131616Z
UID:3053-1718218800-1718224200@www.fairfaxcasa.org
SUMMARY:6/12 Virtual Information Session 7 PM
DESCRIPTION:Date: June 12\, 2024 7:00 PM – 8:30 PM Would you like to make an impact in the life of a child who needs an adult to stand up for their best interests and needs? Join us for an online presentation via Zoom to learn about the role and responsibilities of a Court Appointed Special Advocate for abused and neglected children\, and how to become one. You will also hear from a veteran CASA about what to expect in this unique and rewarding volunteer role. YOU can change a child’s story! RSVP to reserve your spot and receive Zoom details by emailing us at volunteer@casafairfax.org! \n 
URL:https://www.fairfaxcasa.org/event/6-13-virtual-information-session-7-pm/
END:VEVENT
BEGIN:VEVENT
DTSTART;TZID=America/New_York:20240530T190000
DTEND;TZID=America/New_York:20240530T203000
DTSTAMP:20260423T165528
CREATED:20240313T183837Z
LAST-MODIFIED:20240313T183837Z
UID:3051-1717095600-1717101000@www.fairfaxcasa.org
SUMMARY:5/30 Virtual Information Session 7 PM
DESCRIPTION:Date: May 30\, 2024 7:00 PM – 8:30 PM Would you like to make an impact in the life of a child who needs an adult to stand up for their best interests and needs? Join us for an online presentation via Zoom to learn about the role and responsibilities of a Court Appointed Special Advocate for abused and neglected children\, and how to become one. You will also hear from a veteran CASA about what to expect in this unique and rewarding volunteer role. YOU can change a child’s story! RSVP to reserve your spot and receive Zoom details by emailing us at volunteer@casafairfax.org!
URL:https://www.fairfaxcasa.org/event/5-30-virtual-information-session-7-pm/
END:VEVENT
BEGIN:VEVENT
DTSTART;TZID=America/New_York:20240516T130000
DTEND;TZID=America/New_York:20240516T143000
DTSTAMP:20260423T165528
CREATED:20240313T183106Z
LAST-MODIFIED:20240313T183106Z
UID:3049-1715864400-1715869800@www.fairfaxcasa.org
SUMMARY:5/16 Virtual Information Session 1 PM
DESCRIPTION:Date: May 16\, 2024 1:00PM – 2:30PM. Would you like to make an impact in the life of a child who needs an adult to stand up for their best interests and needs? Join us for an online presentation via Zoom to learn about the role and responsibilities of a Court Appointed Special Advocate for abused and neglected children\, and how to become one. You will also hear from a veteran CASA about what to expect in this unique and rewarding volunteer role. YOU can change a child’s story! RSVP to reserve your spot and receive Zoom details by emailing us at volunteer@casafairfax.org!
URL:https://www.fairfaxcasa.org/event/5-16-virtual-information-session-1-pm/
END:VEVENT
BEGIN:VEVENT
DTSTART;TZID=UTC:20240504T080000
DTEND;TZID=UTC:20240504T140000
DTSTAMP:20260423T165528
CREATED:20240127T012419Z
LAST-MODIFIED:20240229T200658Z
UID:2989-1714809600-1714831200@www.fairfaxcasa.org
SUMMARY:5/4/24 Run The Greenway @Loudon Station
DESCRIPTION:The Run the Greenway Event benefitting Fairfax CASA is on May 4\, 2024…. Visit our race page to sign up to run\, walk or donate on behalf of Fairfax CASA! \nSign up 
URL:https://www.fairfaxcasa.org/event/5-4-24-run-the-greenway-loudon-station/
LOCATION:Loudoun Station\, 43751 Central Station Dr\,\, Ashburn\, VA\, 20147\, United States
END:VEVENT
BEGIN:VEVENT
DTSTART;TZID=UTC:20240418T190000
DTEND;TZID=UTC:20240418T203000
DTSTAMP:20260423T165528
CREATED:20231207T014434Z
LAST-MODIFIED:20240313T191112Z
UID:2927-1713466800-1713472200@www.fairfaxcasa.org
SUMMARY:4/18 Virtual Information Session 7pm
DESCRIPTION:Date: April 18\, 2024 7:00pm – 8:30pm Would you like to make an impact in the life of a child who needs an adult to stand up for their best interests and needs? Join us for an online presentation via Zoom to learn about the role and responsibilities of a Court Appointed Special Advocate for abused and neglected children\, and how to become one. You will also hear from a veteran CASA about what to expect in this unique and rewarding volunteer role. YOU can change a child’s story! RSVP to reserve your spot and receive Zoom details by emailing us at volunteer@casafairfax.org!
URL:https://www.fairfaxcasa.org/event/4-18-virtual-information-session-7pm/
END:VEVENT
END:VCALENDAR